BEGIN:VCALENDAR
VERSION:2.0
PRODID:-//Velvet Lounge - ECPv4.6.15//NONSGML v1.0//EN
CALSCALE:GREGORIAN
METHOD:PUBLISH
X-WR-CALNAME:Velvet Lounge
X-ORIGINAL-URL:http://velvetloungedc.com
X-WR-CALDESC:Events for Velvet Lounge
BEGIN:VEVENT
DTSTART;TZID=America/New_York:20140409T080000
DTEND;TZID=America/New_York:20140409T170000
DTSTAMP:20180626T230309
CREATED:20140409T120000Z
LAST-MODIFIED:20140408T015805Z
UID:235-1397030400-1397062800@velvetloungedc.com
SUMMARY:VLMA
DESCRIPTION:
URL:http://vlma.bandcamp.com/#new_tab
END:VEVENT
BEGIN:VEVENT
DTSTART;VALUE=DATE:20140410
DTEND;VALUE=DATE:20140412
DTSTAMP:20180626T230309
CREATED:20140410T070000Z
LAST-MODIFIED:20140421T064038Z
UID:237-1397098800-1397185199@velvetloungedc.com
SUMMARY:Cannonball Cole
DESCRIPTION:
URL:https://dirtholler.bandcamp.com/track/already-gone#new_tab
END:VEVENT
BEGIN:VEVENT
DTSTART;VALUE=DATE:20140411
DTEND;VALUE=DATE:20140413
DTSTAMP:20180626T230309
CREATED:20140411T070000Z
LAST-MODIFIED:20140421T064057Z
UID:239-1397185200-1397271599@velvetloungedc.com
SUMMARY:Aztec Sun
DESCRIPTION:
URL:https://www.facebook.com/aztecsunband#new_tab
END:VEVENT
BEGIN:VEVENT
DTSTART;VALUE=DATE:20140412
DTEND;VALUE=DATE:20140414
DTSTAMP:20180626T230309
CREATED:20140412T070000Z
LAST-MODIFIED:20140421T064122Z
UID:240-1397271600-1397357999@velvetloungedc.com
SUMMARY:Clones of Clones
DESCRIPTION:
URL:https://www.facebook.com/clonesofclones
END:VEVENT
BEGIN:VEVENT
DTSTART;TZID=America/New_York:20140419T080000
DTEND;TZID=America/New_York:20140419T170000
DTSTAMP:20180626T230309
CREATED:20140419T120000Z
LAST-MODIFIED:20140408T014949Z
UID:242-1397894400-1397926800@velvetloungedc.com
SUMMARY:Borracho/Cortez split 7" Release Party! AND Borracho's European tour send-off! 
DESCRIPTION:
URL:http://velvetloungedc.com/event/borrachocortez-split-7-release-party-borrachos-european-tour-send/
CATEGORIES:highlighted
END:VEVENT
BEGIN:VEVENT
DTSTART;TZID=America/New_York:20140422T080000
DTEND;TZID=America/New_York:20140422T170000
DTSTAMP:20180626T230309
CREATED:20140422T120000Z
LAST-MODIFIED:20140408T014856Z
UID:244-1398153600-1398186000@velvetloungedc.com
SUMMARY:Dirty Destroyers Orchestra
DESCRIPTION:
URL:http://dirtydestroyers.bandcamp.com/#new_tab
END:VEVENT
BEGIN:VEVENT
DTSTART;VALUE=DATE:20140423
DTEND;VALUE=DATE:20140425
DTSTAMP:20180626T230309
CREATED:20140423T070000Z
LAST-MODIFIED:20140421T064205Z
UID:246-1398222000-1398308399@velvetloungedc.com
SUMMARY:Exit Ghost
DESCRIPTION:
URL:http://exitghostmusic.com/
CATEGORIES:highlighted
END:VEVENT
BEGIN:VEVENT
DTSTART;VALUE=DATE:20140424
DTEND;VALUE=DATE:20140426
DTSTAMP:20180626T230309
CREATED:20140424T070000Z
LAST-MODIFIED:20140421T064229Z
UID:248-1398308400-1398394799@velvetloungedc.com
SUMMARY:A Fundraiser for Cool Earth
DESCRIPTION:
URL:http://www.coolearth.org/251/cool-earth-and-ambassadors-of-morning#new_tab
END:VEVENT
BEGIN:VEVENT
DTSTART;VALUE=DATE:20140425
DTEND;VALUE=DATE:20140427
DTSTAMP:20180626T230309
CREATED:20140425T070000Z
LAST-MODIFIED:20140421T063958Z
UID:250-1398394800-1398481199@velvetloungedc.com
SUMMARY:StereoRiots
DESCRIPTION:
URL:https://www.facebook.com/StereoRiots#new_tab
CATEGORIES:highlighted
END:VEVENT
BEGIN:VEVENT
DTSTART;VALUE=DATE:20140427
DTEND;VALUE=DATE:20140429
DTSTAMP:20180626T230309
CREATED:20140427T070000Z
LAST-MODIFIED:20140421T063923Z
UID:252-1398567600-1398653999@velvetloungedc.com
SUMMARY:Company Calls
DESCRIPTION:
URL:https://www.facebook.com/CompanyCalls#new_tab
END:VEVENT
BEGIN:VEVENT
DTSTART;VALUE=DATE:20140429
DTEND;VALUE=DATE:20140501
DTSTAMP:20180626T230309
CREATED:20140429T070000Z
LAST-MODIFIED:20140421T063859Z
UID:254-1398740400-1398826799@velvetloungedc.com
SUMMARY:Art Decade
DESCRIPTION:
URL:http://www.artdecade.com/#new_tab
END:VEVENT
BEGIN:VEVENT
DTSTART;VALUE=DATE:20140502
DTEND;VALUE=DATE:20140504
DTSTAMP:20180626T230309
CREATED:20140502T070000Z
LAST-MODIFIED:20140421T063811Z
UID:256-1398999600-1399085999@velvetloungedc.com
SUMMARY:Spanish Noir
DESCRIPTION:
URL:http://www.facebook.com/spanishnoir#new_tab
END:VEVENT
BEGIN:VEVENT
DTSTART;VALUE=DATE:20140504
DTEND;VALUE=DATE:20140506
DTSTAMP:20180626T230309
CREATED:20140504T070000Z
LAST-MODIFIED:20140421T063752Z
UID:258-1399172400-1399258799@velvetloungedc.com
SUMMARY:Kohoutek
DESCRIPTION:
URL:https://www.facebook.com/pages/Kohoutek/120978161283044#new_tab
CATEGORIES:highlighted
END:VEVENT
BEGIN:VEVENT
DTSTART;VALUE=DATE:20140509
DTEND;VALUE=DATE:20140511
DTSTAMP:20180626T230309
CREATED:20140509T070000Z
LAST-MODIFIED:20140421T063722Z
UID:260-1399604400-1399690799@velvetloungedc.com
SUMMARY:Aerist
DESCRIPTION:
URL:http://aneternalriftinspacetime.bandcamp.com/#new_tab
END:VEVENT
BEGIN:VEVENT
DTSTART;VALUE=DATE:20140407
DTEND;VALUE=DATE:20140409
DTSTAMP:20180626T230309
CREATED:20140407T070000Z
LAST-MODIFIED:20140421T064019Z
UID:262-1396839600-1396925999@velvetloungedc.com
SUMMARY:Got Sol?
DESCRIPTION:
URL:http://velvetloungedc.com/event/got-sol/
END:VEVENT
BEGIN:VEVENT
DTSTART;VALUE=DATE:20140515
DTEND;VALUE=DATE:20140517
DTSTAMP:20180626T230309
CREATED:20140515T070000Z
LAST-MODIFIED:20140421T063654Z
UID:263-1400122800-1400209199@velvetloungedc.com
SUMMARY:Smoke ‘n’ Mangos
DESCRIPTION:
URL:http://www.smokenmangos.com/#new_tab
END:VEVENT
BEGIN:VEVENT
DTSTART;VALUE=DATE:20140524
DTEND;VALUE=DATE:20140526
DTSTAMP:20180626T230309
CREATED:20140524T070000Z
LAST-MODIFIED:20140505T221341Z
UID:265-1400900400-1400986799@velvetloungedc.com
SUMMARY:The Caribbean
DESCRIPTION:
URL:http://thecaribbean.tumblr.com
CATEGORIES:highlighted
END:VEVENT
BEGIN:VEVENT
DTSTART;VALUE=DATE:20140606
DTEND;VALUE=DATE:20140608
DTSTAMP:20180626T230309
CREATED:20140606T070000Z
LAST-MODIFIED:20140530T195305Z
UID:266-1402023600-1402109999@velvetloungedc.com
SUMMARY:The Everymen
DESCRIPTION:
URL:https://www.facebook.com/TheEverymen#new_tab
CATEGORIES:highlighted
END:VEVENT
BEGIN:VEVENT
DTSTART;VALUE=DATE:20140622
DTEND;VALUE=DATE:20140624
DTSTAMP:20180626T230309
CREATED:20140622T070000Z
LAST-MODIFIED:20140421T063539Z
UID:268-1403406000-1403492399@velvetloungedc.com
SUMMARY:Letitia VanSant
DESCRIPTION:
URL:http://www.letitiavansant.com/#new_tab
END:VEVENT
BEGIN:VEVENT
DTSTART;VALUE=DATE:20140627
DTEND;VALUE=DATE:20140629
DTSTAMP:20180626T230309
CREATED:20140627T070000Z
LAST-MODIFIED:20140524T005425Z
UID:270-1403838000-1403924399@velvetloungedc.com
SUMMARY:Vinny Vegas
DESCRIPTION:
URL:http://vinnyvegasmusic.com/#new_tab
END:VEVENT
BEGIN:VEVENT
DTSTART;TZID=America/New_York:20140418T080000
DTEND;TZID=America/New_York:20140418T170000
DTSTAMP:20180626T230309
CREATED:20140418T120000Z
LAST-MODIFIED:20140418T182753Z
UID:276-1397808000-1397840400@velvetloungedc.com
SUMMARY:Naylor Court
DESCRIPTION:
URL:http://naylor-court.com/#new_tab
END:VEVENT
BEGIN:VEVENT
DTSTART;TZID=America/New_York:20140420T080000
DTEND;TZID=America/New_York:20140420T235500
DTSTAMP:20180626T230309
CREATED:20140420T120000Z
LAST-MODIFIED:20140421T070806Z
UID:279-1397980800-1398038100@velvetloungedc.com
SUMMARY:Church Night! presents…
DESCRIPTION:
URL:http://www.churchnight.org/#new_tab
CATEGORIES:highlighted
END:VEVENT
BEGIN:VEVENT
DTSTART;VALUE=DATE:20140501
DTEND;VALUE=DATE:20140503
DTSTAMP:20180626T230309
CREATED:20140501T070000Z
LAST-MODIFIED:20140421T063836Z
UID:281-1398913200-1398999599@velvetloungedc.com
SUMMARY:Soup of the Day
DESCRIPTION:
URL:https://www.facebook.com/soupofthedayofficial#new_tab
END:VEVENT
BEGIN:VEVENT
DTSTART;VALUE=DATE:20140516
DTEND;VALUE=DATE:20140518
DTSTAMP:20180626T230309
CREATED:20140516T070000Z
LAST-MODIFIED:20140516T154708Z
UID:283-1400209200-1400295599@velvetloungedc.com
SUMMARY:Railsplitter
DESCRIPTION:
URL:http://railsplitterband.com/
END:VEVENT
BEGIN:VEVENT
DTSTART;TZID=America/New_York:20140503T190000
DTEND;TZID=America/New_York:20140504T010000
DTSTAMP:20180626T230309
CREATED:20140503T230000Z
LAST-MODIFIED:20140427T203423Z
UID:301-1399143600-1399165200@velvetloungedc.com
SUMMARY:Stereosleep
DESCRIPTION:
URL:http://www.stereosleep.com/
END:VEVENT
BEGIN:VEVENT
DTSTART;TZID=America/New_York:20140510T210000
DTEND;TZID=America/New_York:20140511T010000
DTSTAMP:20180626T230309
CREATED:20140511T010000Z
LAST-MODIFIED:20140503T210333Z
UID:303-1399755600-1399770000@velvetloungedc.com
SUMMARY:Wings Denied
DESCRIPTION:
URL:http://wingsdenied.bandcamp.com/#new_tab
END:VEVENT
BEGIN:VEVENT
DTSTART;TZID=America/New_York:20140507T190000
DTEND;TZID=America/New_York:20140508T010000
DTSTAMP:20180626T230309
CREATED:20140507T230000Z
LAST-MODIFIED:20140503T205031Z
UID:317-1399489200-1399510800@velvetloungedc.com
SUMMARY:Jumpcuts
DESCRIPTION:
URL:http://jumpcuts.bandcamp.com/#new_tab
END:VEVENT
BEGIN:VEVENT
DTSTART;TZID=America/New_York:20140521T210000
DTEND;TZID=America/New_York:20140522T010000
DTSTAMP:20180626T230309
CREATED:20140522T010000Z
LAST-MODIFIED:20140512T190714Z
UID:320-1400706000-1400720400@velvetloungedc.com
SUMMARY:Peyote Pilgrim
DESCRIPTION:
URL:http://peyotepilgrim.bandcamp.com/#new_tab
END:VEVENT
BEGIN:VEVENT
DTSTART;TZID=America/New_York:20140517T190000
DTEND;TZID=America/New_York:20140518T020000
DTSTAMP:20180626T230309
CREATED:20140517T230000Z
LAST-MODIFIED:20140515T040602Z
UID:322-1400353200-1400378400@velvetloungedc.com
SUMMARY:Incredible Change [Debut Show!\, mem-Ra Ra Rasputin]
DESCRIPTION:
URL:http://vimeo.com/95250338
END:VEVENT
BEGIN:VEVENT
DTSTART;TZID=America/New_York:20140520T210000
DTEND;TZID=America/New_York:20140521T020000
DTSTAMP:20180626T230309
CREATED:20140521T010000Z
LAST-MODIFIED:20140512T195231Z
UID:325-1400619600-1400637600@velvetloungedc.com
SUMMARY:Baby Bry Bry
DESCRIPTION:
URL:http://babybrybry.bandcamp.com/#new_tab
END:VEVENT
END:VCALENDAR